BEGIN:VCALENDAR
PRODID:-//climbIT//Tourenangebot//DE
VERSION:2.0
METHOD:PUBLISH
BEGIN:VEVENT
UID:tour-048f4030-6af5-4e8d-a361-0dc4d4b7ba8c@touren.sac-tg.ch
DTSTAMP:20260419T192902
SEQUENCE:0
CLASS:PUBLIC
TRANSP:OPAQUE
DTSTART;VALUE=DATE:20230115
DTEND;VALUE=DATE:20230116
SUMMARY:Sektion Thurgau: Skitour Gluristal 
DESCRIPTION:Nach deiner Anmeldung und bei jeder Statusänderung wird ein Kalendereintrag per E-Mail verschickt.\n\nAktuelle Informationen\nTourenlink: https://touren.sac-tg.ch/tours/view/048f4030-6af5-4e8d-a361-0dc4d4b7ba8c\n\n\nDein Tourenangebot Team
END:VEVENT
END:VCALENDAR