BEGIN:VCALENDAR
PRODID:-//climbIT//Tourenangebot//DE
VERSION:2.0
METHOD:PUBLISH
BEGIN:VEVENT
UID:tour-5da4b5b5-6884-47b2-a581-0362ac12000c@touren.sac-tg.ch
DTSTAMP:20260423T164912
SEQUENCE:0
CLASS:PUBLIC
TRANSP:OPAQUE
DTSTART;VALUE=DATE:20191208
DTEND;VALUE=DATE:20191209
SUMMARY:Sektion Thurgau: Saisonstart Skitour
DESCRIPTION:Nach deiner Anmeldung und bei jeder Statusänderung wird ein Kalendereintrag per E-Mail verschickt.\n\nAktuelle Informationen\nTourenlink: https://touren.sac-tg.ch/tours/view/5da4b5b5-6884-47b2-a581-0362ac12000c\n\n\nDein Tourenangebot Team
END:VEVENT
END:VCALENDAR