BEGIN:VCALENDAR
PRODID:-//climbIT//Tourenangebot//DE
VERSION:2.0
METHOD:PUBLISH
BEGIN:VEVENT
UID:tour-9e943172-3e3f-4076-b0f3-c1f78468f652@touren.sac-tg.ch
DTSTAMP:20260421T022856
SEQUENCE:0
CLASS:PUBLIC
TRANSP:OPAQUE
DTSTART;VALUE=DATE:20220916
DTEND;VALUE=DATE:20220918
SUMMARY:Sektion Thurgau: Ruchi 3105m - Hausstock 3158m
DESCRIPTION:Nach deiner Anmeldung und bei jeder Statusänderung wird ein Kalendereintrag per E-Mail verschickt.\n\nAktuelle Informationen\nTourenlink: https://touren.sac-tg.ch/tours/view/9e943172-3e3f-4076-b0f3-c1f78468f652\n\n\nDein Tourenangebot Team
END:VEVENT
END:VCALENDAR