BEGIN:VCALENDAR
PRODID:-//climbIT//Tourenangebot//DE
VERSION:2.0
METHOD:PUBLISH
BEGIN:VEVENT
UID:tour-a1e63c4c-a2e2-4dd3-9107-ed1591d2981c@touren.sac-tg.ch
DTSTAMP:20260421T022938
SEQUENCE:0
CLASS:PUBLIC
TRANSP:OPAQUE
DTSTART;VALUE=DATE:20250928
DTEND;VALUE=DATE:20250929
SUMMARY:Sektion Thurgau: Klettern im Jura
DESCRIPTION:Nach deiner Anmeldung und bei jeder Statusänderung wird ein Kalendereintrag per E-Mail verschickt.\n\nAktuelle Informationen\nTourenlink: https://touren.sac-tg.ch/tours/view/a1e63c4c-a2e2-4dd3-9107-ed1591d2981c\n\n\nDein Tourenangebot Team
END:VEVENT
END:VCALENDAR