BEGIN:VCALENDAR
PRODID:-//climbIT//Tourenangebot//DE
VERSION:2.0
METHOD:PUBLISH
BEGIN:VEVENT
UID:tour-f73ca639-5d53-4ec5-a1ee-96fc602094fe@touren.sac-tg.ch
DTSTAMP:20260423T164943
SEQUENCE:0
CLASS:PUBLIC
TRANSP:OPAQUE
DTSTART;VALUE=DATE:20221020
DTEND;VALUE=DATE:20221021
SUMMARY:Sektion Thurgau: Ennetbühl-Stockberg-Lutertannen
DESCRIPTION:Nach deiner Anmeldung und bei jeder Statusänderung wird ein Kalendereintrag per E-Mail verschickt.\n\nAktuelle Informationen\nTourenlink: https://touren.sac-tg.ch/tours/view/f73ca639-5d53-4ec5-a1ee-96fc602094fe\n\n\nDein Tourenangebot Team
END:VEVENT
END:VCALENDAR